BEGIN:VCALENDAR
VERSION:2.0
PRODID:-//Medgar Evers College - ECPv6.15.17.1//NONSGML v1.0//EN
CALSCALE:GREGORIAN
METHOD:PUBLISH
X-WR-CALNAME:Medgar Evers College
X-ORIGINAL-URL:https://www.mec.cuny.edu
X-WR-CALDESC:Events for Medgar Evers College
REFRESH-INTERVAL;VALUE=DURATION:PT1H
X-Robots-Tag:noindex
X-PUBLISHED-TTL:PT1H
BEGIN:VTIMEZONE
TZID:America/Halifax
BEGIN:DAYLIGHT
TZOFFSETFROM:-0400
TZOFFSETTO:-0300
TZNAME:ADT
DTSTART:20210314T060000
END:DAYLIGHT
BEGIN:STANDARD
TZOFFSETFROM:-0300
TZOFFSETTO:-0400
TZNAME:AST
DTSTART:20211107T050000
END:STANDARD
BEGIN:DAYLIGHT
TZOFFSETFROM:-0400
TZOFFSETTO:-0300
TZNAME:ADT
DTSTART:20220313T060000
END:DAYLIGHT
BEGIN:STANDARD
TZOFFSETFROM:-0300
TZOFFSETTO:-0400
TZNAME:AST
DTSTART:20221106T050000
END:STANDARD
BEGIN:DAYLIGHT
TZOFFSETFROM:-0400
TZOFFSETTO:-0300
TZNAME:ADT
DTSTART:20230312T060000
END:DAYLIGHT
BEGIN:STANDARD
TZOFFSETFROM:-0300
TZOFFSETTO:-0400
TZNAME:AST
DTSTART:20231105T050000
END:STANDARD
END:VTIMEZONE
BEGIN:VEVENT
DTSTART;TZID=America/Halifax:20220123T190000
DTEND;TZID=America/Halifax:20220123T193000
DTSTAMP:20260421T204610
CREATED:20220127T195605Z
LAST-MODIFIED:20220127T195605Z
UID:60860-1642964400-1642966200@www.mec.cuny.edu
SUMMARY:“Writers On Writing“ Radio Show (Replay)
DESCRIPTION:About the Episode\nDr. Brenda Greene interviews Jocelyn Nicole Johnson\, author of My Monticello: Fiction. Greene and Johnson discuss Johnson’s motivation for writing the five short stories and novella “My Monticello\,” a cautionary tale in the tradition of Octavia E. Butler’s Parable of the Sower. The themes in these stories include\, among others\, race relations\, white supremacy\, police brutality\, the immigrant experience\, and environmental issues. Johnson’s opening story\, “Control Negro\,” recounts a Black professor’s clinical observation of his son from birth through young adulthood. The novella “My Monticello” features a diverse group of Charlottesville neighbors who flee white supremacists and seek refuge in Monticello\, the plantation home of Thomas Jefferson. Greene and Johnson discuss those who influenced Johnson’s work\, her writing process\, and her view on the state of Black literature. Danielle Evans writes of My Monticello: “My Monticello is a gorgeous\, devastating collection of stories spotlighting the ways a life\, a country\, and a planet can tend toward disaster but still be worth fighting for.” \nAbout the Gues\nJocelyn Nicole Johnson is the author of the critically acclaimed My Monticello\, a fiction debut that was called “electrifying” by Colson Whitehead and “a masterly feat” by The New York Times. A fellow of Tin House\, Hedgebrook\, and the Virginia Center for the Creative Arts\, Johnson’s writing has appeared in Guernica\, The Guardian\, Kweli Journal\, and elsewhere. Her short story “Control Negro” was anthologized in The Best American Short Stories 2018\, guest edited by Roxane Gay\, who described it as\, “one hell of a story” and read live by LeVar Burton for PRI’s Selected Shorts. A veteran public school art teacher\, Johnson lives and writes in Charlottesville\, Virginia. \nSelect episodes of “Writers on Writing” can now be heard on the new CBL YouTube channel. Explore our digital archives! \nEmail writers@mec.cuny.edu for more information.
URL:https://www.mec.cuny.edu/event/writers-on-writing-radio-show-replay-24/
END:VEVENT
END:VCALENDAR