BEGIN:VCALENDAR
VERSION:2.0
PRODID:-//Medgar Evers College - ECPv6.15.17.1//NONSGML v1.0//EN
CALSCALE:GREGORIAN
METHOD:PUBLISH
X-WR-CALNAME:Medgar Evers College
X-ORIGINAL-URL:https://www.mec.cuny.edu
X-WR-CALDESC:Events for Medgar Evers College
REFRESH-INTERVAL;VALUE=DURATION:PT1H
X-Robots-Tag:noindex
X-PUBLISHED-TTL:PT1H
BEGIN:VTIMEZONE
TZID:UTC
BEGIN:STANDARD
TZOFFSETFROM:+0000
TZOFFSETTO:+0000
TZNAME:UTC
DTSTART:20180101T000000
END:STANDARD
END:VTIMEZONE
BEGIN:VEVENT
DTSTART;TZID=UTC:20190519T190000
DTEND;TZID=UTC:20190519T193000
DTSTAMP:20260421T234927
CREATED:20190516T022909Z
LAST-MODIFIED:20190516T022909Z
UID:60291-1558292400-1558294200@www.mec.cuny.edu
SUMMARY:Writers on Writing Interview with Deborah G. Plant
DESCRIPTION:Tune In This Week \nSunday\, May 19\, 2019 \nâ€œWriters on Writingâ€ Radio Show \nWNYE 91.5 FM \n7 p.m. â€“ 7:30 p.m. \nInterview with Deborah G. Plant \nWith Dr. Brenda M. Greene\, Executive Director  \nThe Center for Black Literature at Medgar Evers College\, CUNY \nListen at WMEC Radio\, http://wmec.mec.cuny.edu \nDr. Brenda Greene interviews Dr. Deborah G. Plant\, African American scholar\, literary critic and editor of Barracoon: The Story of the Last â€œBlack Cargoâ€ written by novelist\, folklorist and anthropologist Zora Neale Hurston. \nAbout the Program \nDr. Brenda Greene interviews Dr. Deborah G. Plant\, African American scholar\, literary critic and editor of Barracoon: The Story of the Last â€œBlack Cargoâ€ written by novelist\, folklorist and anthropologist Zora Neale Hurston.Â Barracoon sheds light on the inhumanity of slavery as told from the true story of Kossola (Cudjo Lewis)\, one of the last survivors of the Atlantic slave trade. It adds another literary work to the canon of freedom narratives by enslaved Blacks in this country. Greene and Plant discuss Plantâ€™s motivation for editing the never-before-published nonfiction work and the significance of Kossolaâ€™s voice and Hurstonâ€™s research methodology. \nAbout the Author \nDeborah G. Plant is an African American and Africana Studies scholar and literaryÂ critic whose special interest is the life and works of Zora Neale Hurston.Â She is editor of Barracoon: The Story of the Last â€œBlackÂ Cargo\,â€ a New York Times best seller\, by Zora Neale Hurston; author ofÂ AliceÂ Walker: A Woman for Our Times (2017)\, a philosophical biography of Alice Walker\, and editor of The Inside Light: New Critical Essays on Zora Neale HurstonÂ (2010); and author of Zora Neale Hurston: A Biography of the Spirit (2007) and EveryÂ Tub Must Sit On Its Own Bottom: The Philosophy and Politics of Zora Neale HurstonÂ (1995).
URL:https://www.mec.cuny.edu/event/writers-on-writing-interview-with-deborah-g-plant/
END:VEVENT
END:VCALENDAR