BEGIN:VCALENDAR
VERSION:2.0
PRODID:-//Medgar Evers College - ECPv6.15.17.1//NONSGML v1.0//EN
CALSCALE:GREGORIAN
METHOD:PUBLISH
X-WR-CALNAME:Medgar Evers College
X-ORIGINAL-URL:https://www.mec.cuny.edu
X-WR-CALDESC:Events for Medgar Evers College
REFRESH-INTERVAL;VALUE=DURATION:PT1H
X-Robots-Tag:noindex
X-PUBLISHED-TTL:PT1H
BEGIN:VTIMEZONE
TZID:America/Halifax
BEGIN:DAYLIGHT
TZOFFSETFROM:-0400
TZOFFSETTO:-0300
TZNAME:ADT
DTSTART:20220313T060000
END:DAYLIGHT
BEGIN:STANDARD
TZOFFSETFROM:-0300
TZOFFSETTO:-0400
TZNAME:AST
DTSTART:20221106T050000
END:STANDARD
BEGIN:DAYLIGHT
TZOFFSETFROM:-0400
TZOFFSETTO:-0300
TZNAME:ADT
DTSTART:20230312T060000
END:DAYLIGHT
BEGIN:STANDARD
TZOFFSETFROM:-0300
TZOFFSETTO:-0400
TZNAME:AST
DTSTART:20231105T050000
END:STANDARD
BEGIN:DAYLIGHT
TZOFFSETFROM:-0400
TZOFFSETTO:-0300
TZNAME:ADT
DTSTART:20240310T060000
END:DAYLIGHT
BEGIN:STANDARD
TZOFFSETFROM:-0300
TZOFFSETTO:-0400
TZNAME:AST
DTSTART:20241103T050000
END:STANDARD
END:VTIMEZONE
BEGIN:VEVENT
DTSTART;TZID=America/Halifax:20230208T180000
DTEND;TZID=America/Halifax:20230208T200000
DTSTAMP:20260419T190206
CREATED:20230112T211404Z
LAST-MODIFIED:20230112T211404Z
UID:61020-1675879200-1675886400@www.mec.cuny.edu
SUMMARY:“This BE Us: We Live in Brooklyn\, Baby!”
DESCRIPTION:“This BE Us: We Live in Brooklyn\, Baby!”\n“This BE Us: We Live in Brooklyn\, Baby!” Is a multimedia exhibition. The work of Brooklyn-based street and studio photographers Jamel Shabazz\, Hollis King\, Laylah Barrayn\, Kisha Johnson\, Kay Hickman\, Marcia Wilson and Ralston Smith creates a portrait of an eclectic borough\, rich in cultural traditions\, histories\, and influences. \nWriting Workshop Component \nGuest Speaker(s): \nMarcia Wilson and other photographers
URL:https://www.mec.cuny.edu/event/we-live-in-brooklyn-baby/
CATEGORIES:Black History Month 2023
ATTACH;FMTTYPE=:
END:VEVENT
END:VCALENDAR