BEGIN:VCALENDAR
VERSION:2.0
PRODID:-//Medgar Evers College - ECPv6.15.17.1//NONSGML v1.0//EN
CALSCALE:GREGORIAN
METHOD:PUBLISH
X-WR-CALNAME:Medgar Evers College
X-ORIGINAL-URL:https://www.mec.cuny.edu
X-WR-CALDESC:Events for Medgar Evers College
REFRESH-INTERVAL;VALUE=DURATION:PT1H
X-Robots-Tag:noindex
X-PUBLISHED-TTL:PT1H
BEGIN:VTIMEZONE
TZID:America/New_York
BEGIN:DAYLIGHT
TZOFFSETFROM:-0500
TZOFFSETTO:-0400
TZNAME:EDT
DTSTART:20250309T070000
END:DAYLIGHT
BEGIN:STANDARD
TZOFFSETFROM:-0400
TZOFFSETTO:-0500
TZNAME:EST
DTSTART:20251102T060000
END:STANDARD
BEGIN:DAYLIGHT
TZOFFSETFROM:-0500
TZOFFSETTO:-0400
TZNAME:EDT
DTSTART:20260308T070000
END:DAYLIGHT
BEGIN:STANDARD
TZOFFSETFROM:-0400
TZOFFSETTO:-0500
TZNAME:EST
DTSTART:20261101T060000
END:STANDARD
BEGIN:DAYLIGHT
TZOFFSETFROM:-0500
TZOFFSETTO:-0400
TZNAME:EDT
DTSTART:20270314T070000
END:DAYLIGHT
BEGIN:STANDARD
TZOFFSETFROM:-0400
TZOFFSETTO:-0500
TZNAME:EST
DTSTART:20271107T060000
END:STANDARD
END:VTIMEZONE
BEGIN:VEVENT
DTSTART;VALUE=DATE:20260217
DTEND;VALUE=DATE:20260218
DTSTAMP:20260419T081720
CREATED:20260211T163346Z
LAST-MODIFIED:20260211T163346Z
UID:79778-1771286400-1771372799@www.mec.cuny.edu
SUMMARY:Start of Ramadan
DESCRIPTION:Ramadan is the ninth month of the Islamic calendar\, observed by Muslims worldwide as a month of fasting\, prayer\, reflection\, and community. \nReligious/Ethnic Group: Muslim \nTradition/Practices: After the sunset prayer\, Muslims gather in their homes or mosques to break their fast with a meal called ifṭār that is often shared with\nfriends and extended family. The ifṭar usually begins with dates\, as was the custom of Muhammad\, peace be upon him. \nDates: February 17 – March 19\, 2026
URL:https://www.mec.cuny.edu/event/start-of-ramadan/
CATEGORIES:Religous and Ethnic Holidays
ATTACH;FMTTYPE=:
END:VEVENT
END:VCALENDAR