BEGIN:VCALENDAR
VERSION:2.0
PRODID:-//Medgar Evers College - ECPv6.15.17.1//NONSGML v1.0//EN
CALSCALE:GREGORIAN
METHOD:PUBLISH
X-WR-CALNAME:Medgar Evers College
X-ORIGINAL-URL:https://www.mec.cuny.edu
X-WR-CALDESC:Events for Medgar Evers College
REFRESH-INTERVAL;VALUE=DURATION:PT1H
X-Robots-Tag:noindex
X-PUBLISHED-TTL:PT1H
BEGIN:VTIMEZONE
TZID:America/Halifax
BEGIN:DAYLIGHT
TZOFFSETFROM:-0400
TZOFFSETTO:-0300
TZNAME:ADT
DTSTART:20220313T060000
END:DAYLIGHT
BEGIN:STANDARD
TZOFFSETFROM:-0300
TZOFFSETTO:-0400
TZNAME:AST
DTSTART:20221106T050000
END:STANDARD
BEGIN:DAYLIGHT
TZOFFSETFROM:-0400
TZOFFSETTO:-0300
TZNAME:ADT
DTSTART:20230312T060000
END:DAYLIGHT
BEGIN:STANDARD
TZOFFSETFROM:-0300
TZOFFSETTO:-0400
TZNAME:AST
DTSTART:20231105T050000
END:STANDARD
BEGIN:DAYLIGHT
TZOFFSETFROM:-0400
TZOFFSETTO:-0300
TZNAME:ADT
DTSTART:20240310T060000
END:DAYLIGHT
BEGIN:STANDARD
TZOFFSETFROM:-0300
TZOFFSETTO:-0400
TZNAME:AST
DTSTART:20241103T050000
END:STANDARD
END:VTIMEZONE
BEGIN:VEVENT
DTSTART;TZID=America/Halifax:20230222T113000
DTEND;TZID=America/Halifax:20230222T130000
DTSTAMP:20260424T003231
CREATED:20230112T214006Z
LAST-MODIFIED:20230112T214006Z
UID:61023-1677065400-1677070800@www.mec.cuny.edu
SUMMARY:Soul Food Festival: Come see\, taste and learn how Soul Food has always been an important part of African American culture!
DESCRIPTION:Soul Food has always been an important part of African American culture and carries added significance beyond nourishment in the lives of past and present generations of African- Americans. Join us for an afternoon of conversation\, food\, African drumming\, dances\, poetry\, live music and more. \nRegister in advance for this event
URL:https://www.mec.cuny.edu/event/soul-food-festival/
CATEGORIES:Black History Month 2023
ATTACH;FMTTYPE=:
END:VEVENT
END:VCALENDAR