BEGIN:VCALENDAR
VERSION:2.0
PRODID:-//Medgar Evers College - ECPv6.15.17.1//NONSGML v1.0//EN
CALSCALE:GREGORIAN
METHOD:PUBLISH
X-WR-CALNAME:Medgar Evers College
X-ORIGINAL-URL:https://www.mec.cuny.edu
X-WR-CALDESC:Events for Medgar Evers College
REFRESH-INTERVAL;VALUE=DURATION:PT1H
X-Robots-Tag:noindex
X-PUBLISHED-TTL:PT1H
BEGIN:VTIMEZONE
TZID:America/New_York
BEGIN:DAYLIGHT
TZOFFSETFROM:-0500
TZOFFSETTO:-0400
TZNAME:EDT
DTSTART:20240310T070000
END:DAYLIGHT
BEGIN:STANDARD
TZOFFSETFROM:-0400
TZOFFSETTO:-0500
TZNAME:EST
DTSTART:20241103T060000
END:STANDARD
BEGIN:DAYLIGHT
TZOFFSETFROM:-0500
TZOFFSETTO:-0400
TZNAME:EDT
DTSTART:20250309T070000
END:DAYLIGHT
BEGIN:STANDARD
TZOFFSETFROM:-0400
TZOFFSETTO:-0500
TZNAME:EST
DTSTART:20251102T060000
END:STANDARD
BEGIN:DAYLIGHT
TZOFFSETFROM:-0500
TZOFFSETTO:-0400
TZNAME:EDT
DTSTART:20260308T070000
END:DAYLIGHT
BEGIN:STANDARD
TZOFFSETFROM:-0400
TZOFFSETTO:-0500
TZNAME:EST
DTSTART:20261101T060000
END:STANDARD
END:VTIMEZONE
BEGIN:VEVENT
DTSTART;TZID=America/New_York:20250430T171500
DTEND;TZID=America/New_York:20250430T183000
DTSTAMP:20260422T132316
CREATED:20250428T142322Z
LAST-MODIFIED:20250428T142322Z
UID:73829-1746033300-1746037800@www.mec.cuny.edu
SUMMARY:Medgar Wiley Evers Leadership Lecture Series: Dr. Daniel Black
DESCRIPTION:At 5:15 p.m. on Wednesday\, April 30 in the EOJ Auditorium\, Dr. Daniel Black\, a professor of African American Studies at Clark Atlanta University\, will help us conclude our uber-popular Medgar Wiley Evers Leadership Lecture Series. \nA bit more about Dr. Black: \nDr. Black is a nationally renowned\, award-winning novelist. His works are inspired by African American life\, history\, and heritage in the South and encompass themes of race\, religion\, and sexuality. Daniel Black was born on November 28\, 1965\, in Kansas City\, Kansas\, but grew up in Arkansas. \nAmong his literary works are They Tell Me of a Home (2005)\, The Sacred Place (2007)\, Perfect Peace (2010)\, Twelve Gates to the City (2011)\, The Coming (2015)\, and Listen to the Lambs (2016) — all published by St. Martin’s Press. Black has been nominated for the Townsend Literary Prize\, the Ernest J. Gaines Award\, the Ferro-Grumley Literary Prize\, the Lambda Literary Award\, and the Georgia Author of the Year Prize; in addition\, he was awarded the Writer’s Award from the Middle-Atlantic Writers Association. \nOne of Dr. Black’s most noted works is Perfect Peace. \nDr. Black’s The Coming\, which was released in 2015\, is a first-person account of the trauma and triumph of Africans on a slave ship in the sixteenth century. \nCome out to meet Dr. Black on Wednesday!
URL:https://www.mec.cuny.edu/event/medgar-wiley-evers-leadership-lecture-series-dr-daniel-black/
LOCATION:Edison O. Jackson Auditorium\, 1638 Bedford Avenue\, Brooklyn\, NY\, 11225\, United States
ATTACH;FMTTYPE=:
END:VEVENT
END:VCALENDAR