BEGIN:VCALENDAR
VERSION:2.0
PRODID:-//Medgar Evers College - ECPv6.15.17.1//NONSGML v1.0//EN
CALSCALE:GREGORIAN
METHOD:PUBLISH
X-WR-CALNAME:Medgar Evers College
X-ORIGINAL-URL:https://www.mec.cuny.edu
X-WR-CALDESC:Events for Medgar Evers College
REFRESH-INTERVAL;VALUE=DURATION:PT1H
X-Robots-Tag:noindex
X-PUBLISHED-TTL:PT1H
BEGIN:VTIMEZONE
TZID:America/New_York
BEGIN:DAYLIGHT
TZOFFSETFROM:-0500
TZOFFSETTO:-0400
TZNAME:EDT
DTSTART:20250309T070000
END:DAYLIGHT
BEGIN:STANDARD
TZOFFSETFROM:-0400
TZOFFSETTO:-0500
TZNAME:EST
DTSTART:20251102T060000
END:STANDARD
BEGIN:DAYLIGHT
TZOFFSETFROM:-0500
TZOFFSETTO:-0400
TZNAME:EDT
DTSTART:20260308T070000
END:DAYLIGHT
BEGIN:STANDARD
TZOFFSETFROM:-0400
TZOFFSETTO:-0500
TZNAME:EST
DTSTART:20261101T060000
END:STANDARD
BEGIN:DAYLIGHT
TZOFFSETFROM:-0500
TZOFFSETTO:-0400
TZNAME:EDT
DTSTART:20270314T070000
END:DAYLIGHT
BEGIN:STANDARD
TZOFFSETFROM:-0400
TZOFFSETTO:-0500
TZNAME:EST
DTSTART:20271107T060000
END:STANDARD
END:VTIMEZONE
BEGIN:VEVENT
DTSTART;VALUE=DATE:20260227
DTEND;VALUE=DATE:20260228
DTSTAMP:20260423T104717
CREATED:20260225T234917Z
LAST-MODIFIED:20260225T235423Z
UID:80084-1772150400-1772236799@www.mec.cuny.edu
SUMMARY:Free & Professional 2025 Income Tax Preparation
DESCRIPTION:VITA’s free and professional 2025 income tax preparation services are available to any individuals who have legal documentation to work in the United State of America. Services are available at Medgar Evers College and the point people are site coordinators Professor Adela Durham and Professor Sandra Huntley. All tax returns services are offered by appointment only. Appointments can be made by visiting www.picktime.com/medgareverscollegevita or calling 234-421-1207. \nPrograms Offered\nFully Assisted \nDates: February 28\, March 7\, 8\, 14\, 21\, 28\, April 4\, 11\, 12. \nFacilitated Self-Assistance \nDates: February 27\, March 6\, 13\, 20\, 27\, April 3\, 10.
URL:https://www.mec.cuny.edu/event/free-professional-2025-income-tax-preparation/
ATTACH;FMTTYPE=:
END:VEVENT
END:VCALENDAR