BEGIN:VCALENDAR
VERSION:2.0
PRODID:-//Medgar Evers College - ECPv6.15.17.1//NONSGML v1.0//EN
CALSCALE:GREGORIAN
METHOD:PUBLISH
X-WR-CALNAME:Medgar Evers College
X-ORIGINAL-URL:https://www.mec.cuny.edu
X-WR-CALDESC:Events for Medgar Evers College
REFRESH-INTERVAL;VALUE=DURATION:PT1H
X-Robots-Tag:noindex
X-PUBLISHED-TTL:PT1H
BEGIN:VTIMEZONE
TZID:America/New_York
BEGIN:DAYLIGHT
TZOFFSETFROM:-0500
TZOFFSETTO:-0400
TZNAME:EDT
DTSTART:20250309T070000
END:DAYLIGHT
BEGIN:STANDARD
TZOFFSETFROM:-0400
TZOFFSETTO:-0500
TZNAME:EST
DTSTART:20251102T060000
END:STANDARD
BEGIN:DAYLIGHT
TZOFFSETFROM:-0500
TZOFFSETTO:-0400
TZNAME:EDT
DTSTART:20260308T070000
END:DAYLIGHT
BEGIN:STANDARD
TZOFFSETFROM:-0400
TZOFFSETTO:-0500
TZNAME:EST
DTSTART:20261101T060000
END:STANDARD
BEGIN:DAYLIGHT
TZOFFSETFROM:-0500
TZOFFSETTO:-0400
TZNAME:EDT
DTSTART:20270314T070000
END:DAYLIGHT
BEGIN:STANDARD
TZOFFSETFROM:-0400
TZOFFSETTO:-0500
TZNAME:EST
DTSTART:20271107T060000
END:STANDARD
END:VTIMEZONE
BEGIN:VEVENT
DTSTART;VALUE=DATE:20260320
DTEND;VALUE=DATE:20260321
DTSTAMP:20260419T131806
CREATED:20260227T182552Z
LAST-MODIFIED:20260227T182552Z
UID:80142-1773964800-1774051199@www.mec.cuny.edu
SUMMARY:Eid Al-Fitr
DESCRIPTION:Eid al-Fitr is an Islamic holiday that marks the end of Ramadan\, a holy month of fasting. The name translates to “festival of breaking the fast” in Arabic. \nReligious/Ethnic Group: Muslim \nTradition/Practices: Prayers are offered at the mosque or outdoor spaces to facilitate the large numbers of people attending. Families and\nfriends then slowly gather together\, throughout the day\, to enjoy a rich\, opulent feast\, at which time loved ones also often exchange gifts and money.
URL:https://www.mec.cuny.edu/event/eid-al-fitr-2026/
CATEGORIES:Religous and Ethnic Holidays
ATTACH;FMTTYPE=:
END:VEVENT
END:VCALENDAR