BEGIN:VCALENDAR
VERSION:2.0
PRODID:-//Medgar Evers College - ECPv6.15.17.1//NONSGML v1.0//EN
CALSCALE:GREGORIAN
METHOD:PUBLISH
X-WR-CALNAME:Medgar Evers College
X-ORIGINAL-URL:https://www.mec.cuny.edu
X-WR-CALDESC:Events for Medgar Evers College
REFRESH-INTERVAL;VALUE=DURATION:PT1H
X-Robots-Tag:noindex
X-PUBLISHED-TTL:PT1H
BEGIN:VTIMEZONE
TZID:America/New_York
BEGIN:DAYLIGHT
TZOFFSETFROM:-0500
TZOFFSETTO:-0400
TZNAME:EDT
DTSTART:20240310T070000
END:DAYLIGHT
BEGIN:STANDARD
TZOFFSETFROM:-0400
TZOFFSETTO:-0500
TZNAME:EST
DTSTART:20241103T060000
END:STANDARD
BEGIN:DAYLIGHT
TZOFFSETFROM:-0500
TZOFFSETTO:-0400
TZNAME:EDT
DTSTART:20250309T070000
END:DAYLIGHT
BEGIN:STANDARD
TZOFFSETFROM:-0400
TZOFFSETTO:-0500
TZNAME:EST
DTSTART:20251102T060000
END:STANDARD
BEGIN:DAYLIGHT
TZOFFSETFROM:-0500
TZOFFSETTO:-0400
TZNAME:EDT
DTSTART:20260308T070000
END:DAYLIGHT
BEGIN:STANDARD
TZOFFSETFROM:-0400
TZOFFSETTO:-0500
TZNAME:EST
DTSTART:20261101T060000
END:STANDARD
END:VTIMEZONE
BEGIN:VEVENT
DTSTART;TZID=America/New_York:20250425T080000
DTEND;TZID=America/New_York:20250425T160000
DTSTAMP:20260419T191552
CREATED:20250424T194306Z
LAST-MODIFIED:20250424T195006Z
UID:73800-1745568000-1745596800@www.mec.cuny.edu
SUMMARY:Black Brooklyn Empowerment Summit II
DESCRIPTION:  \nJoin us for a powerful two-day summit as we unite to strengthen Black Brooklyn! This event will bring together leaders\, activists\, and community members to address critical issues such as economic empowerment\, education\, housing\, healthcare\, criminal justice reform\, and more. As we build upon the legacy of the 2006 Black Brooklyn Empowerment Convention\, we reaffirm our commitment to sustainable solutions that advance justice\, equity\, and progress for Black Brooklynites to the next level.
URL:https://www.mec.cuny.edu/event/black-brooklyn-empowerment-summit-ii/
LOCATION:Edison O. Jackson Auditorium\, 1638 Bedford Avenue\, Brooklyn\, NY\, 11225\, United States
CATEGORIES:Dubois-Bunche Center
ATTACH;FMTTYPE=:
END:VEVENT
END:VCALENDAR