BEGIN:VCALENDAR
VERSION:2.0
PRODID:-//Medgar Evers College - ECPv6.15.17.1//NONSGML v1.0//EN
CALSCALE:GREGORIAN
METHOD:PUBLISH
X-WR-CALNAME:Medgar Evers College
X-ORIGINAL-URL:https://www.mec.cuny.edu
X-WR-CALDESC:Events for Medgar Evers College
REFRESH-INTERVAL;VALUE=DURATION:PT1H
X-Robots-Tag:noindex
X-PUBLISHED-TTL:PT1H
BEGIN:VTIMEZONE
TZID:America/New_York
BEGIN:DAYLIGHT
TZOFFSETFROM:-0500
TZOFFSETTO:-0400
TZNAME:EDT
DTSTART:20230312T070000
END:DAYLIGHT
BEGIN:STANDARD
TZOFFSETFROM:-0400
TZOFFSETTO:-0500
TZNAME:EST
DTSTART:20231105T060000
END:STANDARD
BEGIN:DAYLIGHT
TZOFFSETFROM:-0500
TZOFFSETTO:-0400
TZNAME:EDT
DTSTART:20240310T070000
END:DAYLIGHT
BEGIN:STANDARD
TZOFFSETFROM:-0400
TZOFFSETTO:-0500
TZNAME:EST
DTSTART:20241103T060000
END:STANDARD
BEGIN:DAYLIGHT
TZOFFSETFROM:-0500
TZOFFSETTO:-0400
TZNAME:EDT
DTSTART:20250309T070000
END:DAYLIGHT
BEGIN:STANDARD
TZOFFSETFROM:-0400
TZOFFSETTO:-0500
TZNAME:EST
DTSTART:20251102T060000
END:STANDARD
END:VTIMEZONE
BEGIN:VEVENT
DTSTART;TZID=America/New_York:20240328T090000
DTEND;TZID=America/New_York:20240328T150000
DTSTAMP:20260421T152708
CREATED:20240221T171853Z
LAST-MODIFIED:20240221T174150Z
UID:63222-1711616400-1711638000@www.mec.cuny.edu
SUMMARY:17th Annual Social Work Conference 2024
DESCRIPTION:You are cordially invited to attend the annual Medgar Evers College Social Work Conference\, Thursday\, March 28\, 2024; a 8:00 AM continental breakfast will be served. This year’s national event at Medgar Evers College marks the 17th annual celebration of the contributions of the Social Work profession. \nMedgar Evers College\, CUNY Presents its\n17th Annual Social Work Conference 2024 \nIn Recognition of\nMarch Is National Social Work Month\nThursday\, March 28\, 2024 – 9:00 AM to 3:00 PM\n1638 Bedford Avenue\, Brooklyn\, New York 11225\nDining Hall \nSponsored by Medgar Evers College Transition Academy and The Department of Social Work  in collaboration with Bronx Psychiatric Center – New York State Office of Mental Health and   New York City Children’s Center – New York State Office of Mental Health \nAbout the Conference \nTrauma is an emotional response to a negative event. Without appropriate support services\, unresolved trauma can have a significant impact on one’s overall functionality\, well-being\, and life course. Furthermore\, emerging issues across healthcare delivery systems have demonstrated significant inequities in levels of quality and access to resources for socioeconomically disadvantaged groups\, people of color\, people with disabilities\, and women. Every person should have access to healthcare! \nProactively addressing the expanding role of social workers in addressing issues of population health\, trauma-informed approaches to care for individuals\, families\, groups\, and communities remain at the forefront of the world health agenda. These key indicators serve as a foundation for further exploration\, intervention\, and advocacy. \nConvening for its annual conference in March 2024\, Medgar Evers College celebrates Social Work Month with this year’s theme\, \n“Empowering Social Workers: Readjusting The Lens Of Society Through Social Work.” \nFeatured Panels \n\nUnderstanding Trauma Across The Life Course: Youth and Young Adults\nUnaddressed Trauma: Understanding the sign\, symptoms\, and impact of trauma among formerly incarcerated people.\nInequities in Health Care: Re-traumatization as an implication of health care service delivery\n\nThere are two ways to attend\, in person or via Zoom. \nRegister Now! \nMore information is forthcoming.
URL:https://www.mec.cuny.edu/event/17th-annual-social-work-conference-2024/
LOCATION:AB1 Dining Hall
END:VEVENT
END:VCALENDAR