BEGIN:VCALENDAR
VERSION:2.0
PRODID:-//Medgar Evers College - ECPv6.15.17.1//NONSGML v1.0//EN
CALSCALE:GREGORIAN
METHOD:PUBLISH
X-WR-CALNAME:Medgar Evers College
X-ORIGINAL-URL:https://www.mec.cuny.edu
X-WR-CALDESC:Events for Medgar Evers College
REFRESH-INTERVAL;VALUE=DURATION:PT1H
X-Robots-Tag:noindex
X-PUBLISHED-TTL:PT1H
BEGIN:VTIMEZONE
TZID:America/New_York
BEGIN:DAYLIGHT
TZOFFSETFROM:-0500
TZOFFSETTO:-0400
TZNAME:EDT
DTSTART:20250309T070000
END:DAYLIGHT
BEGIN:STANDARD
TZOFFSETFROM:-0400
TZOFFSETTO:-0500
TZNAME:EST
DTSTART:20251102T060000
END:STANDARD
BEGIN:DAYLIGHT
TZOFFSETFROM:-0500
TZOFFSETTO:-0400
TZNAME:EDT
DTSTART:20260308T070000
END:DAYLIGHT
BEGIN:STANDARD
TZOFFSETFROM:-0400
TZOFFSETTO:-0500
TZNAME:EST
DTSTART:20261101T060000
END:STANDARD
BEGIN:DAYLIGHT
TZOFFSETFROM:-0500
TZOFFSETTO:-0400
TZNAME:EDT
DTSTART:20270314T070000
END:DAYLIGHT
BEGIN:STANDARD
TZOFFSETFROM:-0400
TZOFFSETTO:-0500
TZNAME:EST
DTSTART:20271107T060000
END:STANDARD
END:VTIMEZONE
BEGIN:VEVENT
DTSTART;VALUE=DATE:20260304
DTEND;VALUE=DATE:20260305
DTSTAMP:20260421T172511
CREATED:20260227T181804Z
LAST-MODIFIED:20260227T181804Z
UID:80132-1772582400-1772668799@www.mec.cuny.edu
SUMMARY:Start of Hola Mohalla
DESCRIPTION:Hola Mohalla\, also called Hola\, is a three-day long Sikh festival which normally falls in March. It takes place on the second day of the lunar month of Chett. \nReligious/Ethnic Group: Sikh \nTradition/Practices: An annual event which is a martial arts parade historically coinciding with Holi\, the Hindu festival of colors. Celebrations related to Holla Mohalla may be held in various locations over several weekends preceding the actual date of the holiday.  \nDates: March 4 – March 6\, 2026
URL:https://www.mec.cuny.edu/event/start-of-hola-mohalla/
CATEGORIES:Religous and Ethnic Holidays
ATTACH;FMTTYPE=:
END:VEVENT
END:VCALENDAR