BEGIN:VCALENDAR
VERSION:2.0
PRODID:-//Medgar Evers College - ECPv6.15.17.1//NONSGML v1.0//EN
CALSCALE:GREGORIAN
METHOD:PUBLISH
X-WR-CALNAME:Medgar Evers College
X-ORIGINAL-URL:https://www.mec.cuny.edu
X-WR-CALDESC:Events for Medgar Evers College
REFRESH-INTERVAL;VALUE=DURATION:PT1H
X-Robots-Tag:noindex
X-PUBLISHED-TTL:PT1H
BEGIN:VTIMEZONE
TZID:America/New_York
BEGIN:DAYLIGHT
TZOFFSETFROM:-0500
TZOFFSETTO:-0400
TZNAME:EDT
DTSTART:20250309T070000
END:DAYLIGHT
BEGIN:STANDARD
TZOFFSETFROM:-0400
TZOFFSETTO:-0500
TZNAME:EST
DTSTART:20251102T060000
END:STANDARD
BEGIN:DAYLIGHT
TZOFFSETFROM:-0500
TZOFFSETTO:-0400
TZNAME:EDT
DTSTART:20260308T070000
END:DAYLIGHT
BEGIN:STANDARD
TZOFFSETFROM:-0400
TZOFFSETTO:-0500
TZNAME:EST
DTSTART:20261101T060000
END:STANDARD
BEGIN:DAYLIGHT
TZOFFSETFROM:-0500
TZOFFSETTO:-0400
TZNAME:EDT
DTSTART:20270314T070000
END:DAYLIGHT
BEGIN:STANDARD
TZOFFSETFROM:-0400
TZOFFSETTO:-0500
TZNAME:EST
DTSTART:20271107T060000
END:STANDARD
END:VTIMEZONE
BEGIN:VEVENT
DTSTART;VALUE=DATE:20260402
DTEND;VALUE=DATE:20260403
DTSTAMP:20260422T033440
CREATED:20260401T204305Z
LAST-MODIFIED:20260401T204305Z
UID:80892-1775088000-1775174399@www.mec.cuny.edu
SUMMARY:Holy Thursday
DESCRIPTION:Holy Thursday\, also known as Maundy Thursday\, commemorates the Last Supper of Jesus Christ with his apostles\, where he instituted the Eucharist and gave the “new commandment” to love one another. \nReligious/Ethnic Group: Christian \nTradition/Practices: Holy Thursday\, commemorating the Last Supper\, is celebrated with a special Mass\, the “Mass of the Lord’s Supper\,” which reenacts the Last Supper and the institution of the Eucharist and priesthood\, often including foot washing and a procession to an “Altar of Repose”.
URL:https://www.mec.cuny.edu/event/holy-thursday-2/
CATEGORIES:Religous and Ethnic Holidays
ATTACH;FMTTYPE=:
END:VEVENT
END:VCALENDAR